BEGIN:VCALENDAR
VERSION:2.0
PRODID:-//Pictures London//Cinema Listings//EN
CALSCALE:GREGORIAN
METHOD:PUBLISH
X-WR-CALNAME:Pictures London Cinema
BEGIN:VEVENT
UID:9ae3e22c-a585-48ca-81e2-604a0f7927f0@pictures.london
DTSTART:20260423T210000Z
DTEND:20260423T222900Z
SUMMARY:Bait (2019) at Genesis Cinema
DESCRIPTION:Bait (2019)\nat Genesis Cinema\nBook: https://genesis.admit-one.co.uk\nvia Pictures (pictures.london)
LOCATION:Genesis Cinema\, 93-95 Mile End Road\, Mile End\, E1 4UJ
URL:https://genesis.admit-one.co.uk
STATUS:CONFIRMED
END:VEVENT
END:VCALENDAR