BEGIN:VCALENDAR
VERSION:2.0
PRODID:-//Pictures London//Cinema Listings//EN
CALSCALE:GREGORIAN
METHOD:PUBLISH
X-WR-CALNAME:Pictures London Cinema
BEGIN:VEVENT
UID:9ac9cf28-875d-4dd5-b5fd-7b28675fcbcb@pictures.london
DTSTART:20260426T183000Z
DTEND:20260426T205400Z
SUMMARY:Sweetheart! (2025) at Regent Street Cinema
DESCRIPTION:Sweetheart! (2025)\nat Regent Street Cinema\nBook: https://www.regentstreetcinema.com/movie/cinemaitaliauk-special-screening-of-gioia-mia-sweetheart\nvia Pictures (pictures.london)
LOCATION:Regent Street Cinema\, 307 Regent Street\, Marylebone\, W1B 2HW
URL:https://www.regentstreetcinema.com/movie/cinemaitaliauk-special-screening-of-gioia-mia-sweetheart
STATUS:CONFIRMED
END:VEVENT
END:VCALENDAR