BEGIN:VCALENDAR
VERSION:2.0
PRODID:-//Pictures London//Cinema Listings//EN
CALSCALE:GREGORIAN
METHOD:PUBLISH
X-WR-CALNAME:Pictures London Cinema
BEGIN:VEVENT
UID:9a5f57a7-70e2-4b47-b3c6-9b1b98bc1038@pictures.london
DTSTART:20260424T200000Z
DTEND:20260424T201000Z
SUMMARY:Primavera (1998) at Crouch End Picturehouse
DESCRIPTION:Primavera (1998)\nat Crouch End Picturehouse\nBook: https://www.picturehouses.com/movie-details/024/HO00017770/primavera\nvia Pictures (pictures.london)
LOCATION:Crouch End Picturehouse\, 165 Tottenham Lane\, Crouch End\, N8 8HP
URL:https://www.picturehouses.com/movie-details/024/HO00017770/primavera
STATUS:CONFIRMED
END:VEVENT
END:VCALENDAR