BEGIN:VCALENDAR
VERSION:2.0
PRODID:-//Pictures London//Cinema Listings//EN
CALSCALE:GREGORIAN
METHOD:PUBLISH
X-WR-CALNAME:Pictures London Cinema
BEGIN:VEVENT
UID:9a563dd1-e472-474d-854d-2b76577b328e@pictures.london
DTSTART:20260423T193000Z
DTEND:20260423T213000Z
SUMMARY:Cine-Real presents: High Anxiety at Castle Cinema
DESCRIPTION:Cine-Real presents: High Anxiety\nat Castle Cinema\nBook: https://thecastlecinema.com/bookings/16374/\nvia Pictures (pictures.london)
LOCATION:Castle Cinema\, 64-66 Brooksby's Walk\, Hackney\, E9 6DA
URL:https://thecastlecinema.com/bookings/16374/
STATUS:CONFIRMED
END:VEVENT
END:VCALENDAR