BEGIN:VCALENDAR
VERSION:2.0
PRODID:-//Pictures London//Cinema Listings//EN
CALSCALE:GREGORIAN
METHOD:PUBLISH
X-WR-CALNAME:Pictures London Cinema
BEGIN:VEVENT
UID:98b2c12a-2a5c-433c-b054-435aa956eb65@pictures.london
DTSTART:20260421T173000Z
DTEND:20260421T190600Z
SUMMARY:Rebuilding (2025) at West Norwood Picturehouse
DESCRIPTION:Rebuilding (2025)\nat West Norwood Picturehouse\nBook: https://www.picturehouses.com/movie-details/023/HO00017446/rebuilding\nvia Pictures (pictures.london)
LOCATION:West Norwood Picturehouse\, The Old Library\, 14-16 Knight's Hill\, West Norwood\, SE27 9NX
URL:https://www.picturehouses.com/movie-details/023/HO00017446/rebuilding
STATUS:CONFIRMED
END:VEVENT
END:VCALENDAR