BEGIN:VCALENDAR
VERSION:2.0
PRODID:-//Pictures London//Cinema Listings//EN
CALSCALE:GREGORIAN
METHOD:PUBLISH
X-WR-CALNAME:Pictures London Cinema
BEGIN:VEVENT
UID:98976f79-8bce-4194-80bb-e9e836454e18@pictures.london
DTSTART:20260422T144500Z
DTEND:20260422T165200Z
SUMMARY:Michael (2026) at Everyman Muswell Hill
DESCRIPTION:Michael (2026)\nat Everyman Muswell Hill\nBook: https://purchase.everymancinema.com/launch/ticketing/44888839-c5ba-5d51-80b4-cdb3665d62cf\nvia Pictures (pictures.london)
LOCATION:Everyman Muswell Hill\, Fortis Green Road\, Muswell Hill\, N10 3TD
URL:https://purchase.everymancinema.com/launch/ticketing/44888839-c5ba-5d51-80b4-cdb3665d62cf
STATUS:CONFIRMED
END:VEVENT
END:VCALENDAR