BEGIN:VCALENDAR
VERSION:2.0
PRODID:-//Pictures London//Cinema Listings//EN
CALSCALE:GREGORIAN
METHOD:PUBLISH
X-WR-CALNAME:Pictures London Cinema
BEGIN:VEVENT
UID:974fc62f-42ad-4cfe-8492-a6f6182d4b3b@pictures.london
DTSTART:20260421T194500Z
DTEND:20260421T222200Z
SUMMARY:Project Hail Mary (2026) at Picturehouse Central
DESCRIPTION:Project Hail Mary (2026)\nat Picturehouse Central\nBook: https://www.picturehouses.com/movie-details/022/HO00017624/project-hail-mary\nvia Pictures (pictures.london)
LOCATION:Picturehouse Central\, Corner of Great Windmill Street & Shaftesbury Avenue\, West End\, W1D 7DH
URL:https://www.picturehouses.com/movie-details/022/HO00017624/project-hail-mary
STATUS:CONFIRMED
END:VEVENT
END:VCALENDAR