BEGIN:VCALENDAR
VERSION:2.0
PRODID:-//Pictures London//Cinema Listings//EN
CALSCALE:GREGORIAN
METHOD:PUBLISH
X-WR-CALNAME:Pictures London Cinema
BEGIN:VEVENT
UID:97403587-9be0-4828-ba23-eda33424b34c@pictures.london
DTSTART:20260425T170000Z
DTEND:20260425T184300Z
SUMMARY:Star 80 (1983) at The Nickel
DESCRIPTION:Star 80 (1983)\nat The Nickel\nFormat: DIGITAL\nBook: https://book.thenickel.co.uk/screening/285\nvia Pictures (pictures.london)
LOCATION:The Nickel\, 194 Upper Street\, Islington\, N1 1RQ
URL:https://book.thenickel.co.uk/screening/285
STATUS:CONFIRMED
END:VEVENT
END:VCALENDAR