BEGIN:VCALENDAR
VERSION:2.0
PRODID:-//Pictures London//Cinema Listings//EN
CALSCALE:GREGORIAN
METHOD:PUBLISH
X-WR-CALNAME:Pictures London Cinema
BEGIN:VEVENT
UID:9725b7b7-c8f0-4b0a-8058-d2be3c688be0@pictures.london
DTSTART:20260501T171500Z
DTEND:20260501T191400Z
SUMMARY:The Devil Wears Prada 2 (2026) at Everyman Muswell Hill
DESCRIPTION:The Devil Wears Prada 2 (2026)\nat Everyman Muswell Hill\nBook: https://purchase.everymancinema.com/launch/ticketing/77cd0fac-4256-5612-8e6d-66fa9510f13b\nvia Pictures (pictures.london)
LOCATION:Everyman Muswell Hill\, Fortis Green Road\, Muswell Hill\, N10 3TD
URL:https://purchase.everymancinema.com/launch/ticketing/77cd0fac-4256-5612-8e6d-66fa9510f13b
STATUS:CONFIRMED
END:VEVENT
END:VCALENDAR