BEGIN:VCALENDAR
VERSION:2.0
PRODID:-//Pictures London//Cinema Listings//EN
CALSCALE:GREGORIAN
METHOD:PUBLISH
X-WR-CALNAME:Pictures London Cinema
BEGIN:VEVENT
UID:96bb5542-9fce-4098-94d4-c7f63fa427b4@pictures.london
DTSTART:20260421T142000Z
DTEND:20260421T155700Z
SUMMARY:Bridget Jones's Diary (2001) at Picturehouse Central
DESCRIPTION:Bridget Jones's Diary (2001)\nat Picturehouse Central\nEvent: anniversary\nBook: https://www.picturehouses.com/movie-details/022/HO00017904/bridget-jones-s-diary-25th-anniversary\nvia Pictures (pictures.london)
LOCATION:Picturehouse Central\, Corner of Great Windmill Street & Shaftesbury Avenue\, West End\, W1D 7DH
URL:https://www.picturehouses.com/movie-details/022/HO00017904/bridget-jones-s-diary-25th-anniversary
STATUS:CONFIRMED
END:VEVENT
END:VCALENDAR