BEGIN:VCALENDAR
VERSION:2.0
PRODID:-//Pictures London//Cinema Listings//EN
CALSCALE:GREGORIAN
METHOD:PUBLISH
X-WR-CALNAME:Pictures London Cinema
BEGIN:VEVENT
UID:967cdbb9-baeb-44fb-830d-3331969154ac@pictures.london
DTSTART:20260421T190000Z
DTEND:20260421T213700Z
SUMMARY:Project Hail Mary (2026) at Everyman Muswell Hill
DESCRIPTION:Project Hail Mary (2026)\nat Everyman Muswell Hill\nBook: https://purchase.everymancinema.com/launch/ticketing/75001107-e1f9-5813-ae71-d4c06debe93b\nvia Pictures (pictures.london)
LOCATION:Everyman Muswell Hill\, Fortis Green Road\, Muswell Hill\, N10 3TD
URL:https://purchase.everymancinema.com/launch/ticketing/75001107-e1f9-5813-ae71-d4c06debe93b
STATUS:CONFIRMED
END:VEVENT
END:VCALENDAR