BEGIN:VCALENDAR
VERSION:2.0
PRODID:-//Pictures London//Cinema Listings//EN
CALSCALE:GREGORIAN
METHOD:PUBLISH
X-WR-CALNAME:Pictures London Cinema
BEGIN:VEVENT
UID:965ba7c9-deeb-476c-9ddb-5c6c4a849e86@pictures.london
DTSTART:20260501T160000Z
DTEND:20260501T175900Z
SUMMARY:The Devil Wears Prada 2 (2026) at Everyman Broadgate
DESCRIPTION:The Devil Wears Prada 2 (2026)\nat Everyman Broadgate\nBook: https://purchase.everymancinema.com/launch/ticketing/cbb7aa0a-4f21-52cb-aacf-263defea34b1\nvia Pictures (pictures.london)
LOCATION:Everyman Broadgate\, Broadgate Circle\, Liverpool Street\, EC2M 2QS
URL:https://purchase.everymancinema.com/launch/ticketing/cbb7aa0a-4f21-52cb-aacf-263defea34b1
STATUS:CONFIRMED
END:VEVENT
END:VCALENDAR