BEGIN:VCALENDAR
VERSION:2.0
PRODID:-//Pictures London//Cinema Listings//EN
CALSCALE:GREGORIAN
METHOD:PUBLISH
X-WR-CALNAME:Pictures London Cinema
BEGIN:VEVENT
UID:9567efea-4595-43e8-af7c-cdbcb6726840@pictures.london
DTSTART:20260421T194000Z
DTEND:20260421T213700Z
SUMMARY:The Stranger (2022) at Curzon Soho
DESCRIPTION:The Stranger (2022)\nat Curzon Soho\nBook: https://www.curzon.com/films/the-stranger/HO00006845/\nvia Pictures (pictures.london)
LOCATION:Curzon Soho\, 99 Shaftesbury Avenue\, Soho\, W1D 5DY
URL:https://www.curzon.com/films/the-stranger/HO00006845/
STATUS:CONFIRMED
END:VEVENT
END:VCALENDAR