BEGIN:VCALENDAR
VERSION:2.0
PRODID:-//Pictures London//Cinema Listings//EN
CALSCALE:GREGORIAN
METHOD:PUBLISH
X-WR-CALNAME:Pictures London Cinema
BEGIN:VEVENT
UID:9522da80-a246-43a2-b174-66d3997a4af7@pictures.london
DTSTART:20260422T163000Z
DTEND:20260422T183700Z
SUMMARY:Michael (2026) at Everyman Broadgate
DESCRIPTION:Michael (2026)\nat Everyman Broadgate\nBook: https://purchase.everymancinema.com/launch/ticketing/145b1a43-4412-53be-82b9-dd9734eae7e7\nvia Pictures (pictures.london)
LOCATION:Everyman Broadgate\, Broadgate Circle\, Liverpool Street\, EC2M 2QS
URL:https://purchase.everymancinema.com/launch/ticketing/145b1a43-4412-53be-82b9-dd9734eae7e7
STATUS:CONFIRMED
END:VEVENT
END:VCALENDAR