BEGIN:VCALENDAR
VERSION:2.0
PRODID:-//Pictures London//Cinema Listings//EN
CALSCALE:GREGORIAN
METHOD:PUBLISH
X-WR-CALNAME:Pictures London Cinema
BEGIN:VEVENT
UID:947b6cae-d0e0-4db0-8c9d-e03406612402@pictures.london
DTSTART:20260424T164500Z
DTEND:20260424T183100Z
SUMMARY:Millennium Mambo (2001) at Prince Charles Cinema
DESCRIPTION:Millennium Mambo (2001)\nat Prince Charles Cinema\nBook: https://princecharlescinema.com/prince-charles-cinema/booknow/31625608\nvia Pictures (pictures.london)
LOCATION:Prince Charles Cinema\, 7 Leicester Place\, Leicester Square\, WC2H 7BY
URL:https://princecharlescinema.com/prince-charles-cinema/booknow/31625608
STATUS:CONFIRMED
END:VEVENT
END:VCALENDAR