BEGIN:VCALENDAR
VERSION:2.0
PRODID:-//Pictures London//Cinema Listings//EN
CALSCALE:GREGORIAN
METHOD:PUBLISH
X-WR-CALNAME:Pictures London Cinema
BEGIN:VEVENT
UID:9403228d-776a-49b0-8fbd-62bc5973aa33@pictures.london
DTSTART:20260422T100000Z
DTEND:20260422T120700Z
SUMMARY:Michael (2026) at Everyman Stratford International
DESCRIPTION:Michael (2026)\nat Everyman Stratford International\nBook: https://purchase.everymancinema.com/launch/ticketing/403cfb44-4447-5439-ade8-de554fc4fc7e\nvia Pictures (pictures.london)
LOCATION:Everyman Stratford International\, International Way\, Stratford\, E20 1GL
URL:https://purchase.everymancinema.com/launch/ticketing/403cfb44-4447-5439-ade8-de554fc4fc7e
STATUS:CONFIRMED
END:VEVENT
END:VCALENDAR