BEGIN:VCALENDAR
VERSION:2.0
PRODID:-//Pictures London//Cinema Listings//EN
CALSCALE:GREGORIAN
METHOD:PUBLISH
X-WR-CALNAME:Pictures London Cinema
BEGIN:VEVENT
UID:93aa3042-4537-4f8f-bb68-a7508ee0f215@pictures.london
DTSTART:20260501T171000Z
DTEND:20260501T190900Z
SUMMARY:The Devil Wears Prada 2 (2026) at Crouch End Picturehouse
DESCRIPTION:The Devil Wears Prada 2 (2026)\nat Crouch End Picturehouse\nBook: https://www.picturehouses.com/movie-details/024/HO00017738/the-devil-wears-prada-2\nvia Pictures (pictures.london)
LOCATION:Crouch End Picturehouse\, 165 Tottenham Lane\, Crouch End\, N8 8HP
URL:https://www.picturehouses.com/movie-details/024/HO00017738/the-devil-wears-prada-2
STATUS:CONFIRMED
END:VEVENT
END:VCALENDAR