BEGIN:VCALENDAR
VERSION:2.0
PRODID:-//Pictures London//Cinema Listings//EN
CALSCALE:GREGORIAN
METHOD:PUBLISH
X-WR-CALNAME:Pictures London Cinema
BEGIN:VEVENT
UID:936373a4-d442-4e48-84f9-7d35250705fe@pictures.london
DTSTART:20260425T093000Z
DTEND:20260425T103600Z
SUMMARY:Bluey at the Cinema: Playdates with Friends (2026) at Curzon Hoxton
DESCRIPTION:Bluey at the Cinema: Playdates with Friends (2026)\nat Curzon Hoxton\nBook: https://www.curzon.com/films/kids-club-bluey-playdates-with-friends/HO00006928/\nvia Pictures (pictures.london)
LOCATION:Curzon Hoxton\, 58 Pitfield Street\, Hoxton\, N1 6NU
URL:https://www.curzon.com/films/kids-club-bluey-playdates-with-friends/HO00006928/
STATUS:CONFIRMED
END:VEVENT
END:VCALENDAR