BEGIN:VCALENDAR
VERSION:2.0
PRODID:-//Pictures London//Cinema Listings//EN
CALSCALE:GREGORIAN
METHOD:PUBLISH
X-WR-CALNAME:Pictures London Cinema
BEGIN:VEVENT
UID:92a2acdc-b01f-4319-9422-76c2775bdf7f@pictures.london
DTSTART:20260421T153000Z
DTEND:20260421T170600Z
SUMMARY:Rebuilding (2025) at Hackney Picturehouse
DESCRIPTION:Rebuilding (2025)\nat Hackney Picturehouse\nBook: https://www.picturehouses.com/movie-details/010/HO00017446/rebuilding\nvia Pictures (pictures.london)
LOCATION:Hackney Picturehouse\, 270 Mare Street\, Hackney\, E8 1EJ
URL:https://www.picturehouses.com/movie-details/010/HO00017446/rebuilding
STATUS:CONFIRMED
END:VEVENT
END:VCALENDAR