BEGIN:VCALENDAR
VERSION:2.0
PRODID:-//Pictures London//Cinema Listings//EN
CALSCALE:GREGORIAN
METHOD:PUBLISH
X-WR-CALNAME:Pictures London Cinema
BEGIN:VEVENT
UID:92a04b97-28dd-42d0-a5d4-fcc54f17bcc0@pictures.london
DTSTART:20260421T181500Z
DTEND:20260421T200000Z
SUMMARY:The Drama (2026) at Everyman Borough Yards
DESCRIPTION:The Drama (2026)\nat Everyman Borough Yards\nBook: https://purchase.everymancinema.com/launch/ticketing/996d63a6-786e-5450-bbe1-6d66d28164a6\nvia Pictures (pictures.london)
LOCATION:Everyman Borough Yards\, Borough Yards\, Borough\, SE1 9PH
URL:https://purchase.everymancinema.com/launch/ticketing/996d63a6-786e-5450-bbe1-6d66d28164a6
STATUS:CONFIRMED
END:VEVENT
END:VCALENDAR