BEGIN:VCALENDAR
VERSION:2.0
PRODID:-//Pictures London//Cinema Listings//EN
CALSCALE:GREGORIAN
METHOD:PUBLISH
X-WR-CALNAME:Pictures London Cinema
BEGIN:VEVENT
UID:928a3714-2c29-4c99-ba84-81a1378fcac0@pictures.london
DTSTART:20260422T162000Z
DTEND:20260422T181000Z
SUMMARY:The Magic Faraway Tree (2026) at Curzon Kingston
DESCRIPTION:The Magic Faraway Tree (2026)\nat Curzon Kingston\nBook: https://www.curzon.com/films/the-magic-faraway-tree/HO00006854/\nvia Pictures (pictures.london)
LOCATION:Curzon Kingston\, Richmond Road\, Kingston\, KT2 5BW
URL:https://www.curzon.com/films/the-magic-faraway-tree/HO00006854/
STATUS:CONFIRMED
END:VEVENT
END:VCALENDAR