BEGIN:VCALENDAR
VERSION:2.0
PRODID:-//Pictures London//Cinema Listings//EN
CALSCALE:GREGORIAN
METHOD:PUBLISH
X-WR-CALNAME:Pictures London Cinema
BEGIN:VEVENT
UID:928824d9-88e8-4303-bac3-000d005c234d@pictures.london
DTSTART:20260501T133000Z
DTEND:20260501T152900Z
SUMMARY:The Devil Wears Prada 2 (2026) at Everyman King's Cross
DESCRIPTION:The Devil Wears Prada 2 (2026)\nat Everyman King's Cross\nBook: https://purchase.everymancinema.com/launch/ticketing/ab04dc5f-4f24-572e-a330-1d83e5bc50ef\nvia Pictures (pictures.london)
LOCATION:Everyman King's Cross\, Coal Drops Yard\, King's Cross\, N1C 4AG
URL:https://purchase.everymancinema.com/launch/ticketing/ab04dc5f-4f24-572e-a330-1d83e5bc50ef
STATUS:CONFIRMED
END:VEVENT
END:VCALENDAR