BEGIN:VCALENDAR
VERSION:2.0
PRODID:-//Pictures London//Cinema Listings//EN
CALSCALE:GREGORIAN
METHOD:PUBLISH
X-WR-CALNAME:Pictures London Cinema
BEGIN:VEVENT
UID:9273db85-4abb-4da1-bfd2-950672e92776@pictures.london
DTSTART:20260424T130500Z
DTEND:20260424T155900Z
SUMMARY:Yi Yi (2000) at Prince Charles Cinema
DESCRIPTION:Yi Yi (2000)\nat Prince Charles Cinema\nBook: https://princecharlescinema.com/prince-charles-cinema/booknow/31625610\nvia Pictures (pictures.london)
LOCATION:Prince Charles Cinema\, 7 Leicester Place\, Leicester Square\, WC2H 7BY
URL:https://princecharlescinema.com/prince-charles-cinema/booknow/31625610
STATUS:CONFIRMED
END:VEVENT
END:VCALENDAR