BEGIN:VCALENDAR
VERSION:2.0
PRODID:-//Pictures London//Cinema Listings//EN
CALSCALE:GREGORIAN
METHOD:PUBLISH
X-WR-CALNAME:Pictures London Cinema
BEGIN:VEVENT
UID:92472a27-4ebf-48fd-9eb6-8d696966b719@pictures.london
DTSTART:20260421T190000Z
DTEND:20260421T210600Z
SUMMARY:Blades of the Guardians: Wind Rises in the Desert (2026) at Ealing Picturehouse
DESCRIPTION:Blades of the Guardians: Wind Rises in the Desert (2026)\nat Ealing Picturehouse\nBook: https://www.picturehouses.com/movie-details/031/HO00017854/blades-of-the-guardians-wind-rises-in-the-desert\nvia Pictures (pictures.london)
LOCATION:Ealing Picturehouse\, The Ealing Cinema\, Ealing Green\, Ealing\, W5 2PA
URL:https://www.picturehouses.com/movie-details/031/HO00017854/blades-of-the-guardians-wind-rises-in-the-desert
STATUS:CONFIRMED
END:VEVENT
END:VCALENDAR