BEGIN:VCALENDAR
VERSION:2.0
PRODID:-//Pictures London//Cinema Listings//EN
CALSCALE:GREGORIAN
METHOD:PUBLISH
X-WR-CALNAME:Pictures London Cinema
BEGIN:VEVENT
UID:91bc3658-d7b5-4df1-adbd-96b96663cb81@pictures.london
DTSTART:20260423T173000Z
DTEND:20260423T192100Z
SUMMARY:Caught by the Tides (2025) at Garden Cinema
DESCRIPTION:Caught by the Tides (2025)\nat Garden Cinema\nBook: https://bookings.thegardencinema.co.uk/TheGardenCinema.dll/TSelectItems.waSelectItemsPrompt.TcsWebMenuItem_0.TcsWebTab_0.TcsPerformance_5002201.TcsSection_638\nvia Pictures (pictures.london)
LOCATION:Garden Cinema\, 39-41 Parker Street\, Covent Garden\, WC2B 5PQ
URL:https://bookings.thegardencinema.co.uk/TheGardenCinema.dll/TSelectItems.waSelectItemsPrompt.TcsWebMenuItem_0.TcsWebTab_0.TcsPerformance_5002201.TcsSection_638
STATUS:CONFIRMED
END:VEVENT
END:VCALENDAR