BEGIN:VCALENDAR
VERSION:2.0
PRODID:-//Pictures London//Cinema Listings//EN
CALSCALE:GREGORIAN
METHOD:PUBLISH
X-WR-CALNAME:Pictures London Cinema
BEGIN:VEVENT
UID:91840ac0-8b8e-4938-8db5-4ee0d925cd51@pictures.london
DTSTART:20260424T170000Z
DTEND:20260424T171000Z
SUMMARY:Primavera (1998) at Curzon Mayfair
DESCRIPTION:Primavera (1998)\nat Curzon Mayfair\nBook: https://www.curzon.com/films/primavera/HO00006900/\nvia Pictures (pictures.london)
LOCATION:Curzon Mayfair\, 38 Curzon Street\, Mayfair\, W1J 7SH
URL:https://www.curzon.com/films/primavera/HO00006900/
STATUS:CONFIRMED
END:VEVENT
END:VCALENDAR