BEGIN:VCALENDAR
VERSION:2.0
PRODID:-//Pictures London//Cinema Listings//EN
CALSCALE:GREGORIAN
METHOD:PUBLISH
X-WR-CALNAME:Pictures London Cinema
BEGIN:VEVENT
UID:9114ec9e-6180-4884-a64a-1bf2cad0695a@pictures.london
DTSTART:20260428T170000Z
DTEND:20260428T190000Z
SUMMARY:Viva Maria! (1965) at Garden Cinema
DESCRIPTION:Viva Maria! (1965)\nat Garden Cinema\nBook: https://bookings.thegardencinema.co.uk/TheGardenCinema.dll/TSelectItems.waSelectItemsPrompt.TcsWebMenuItem_0.TcsWebTab_0.TcsPerformance_4966179.TcsSection_638\nvia Pictures (pictures.london)
LOCATION:Garden Cinema\, 39-41 Parker Street\, Covent Garden\, WC2B 5PQ
URL:https://bookings.thegardencinema.co.uk/TheGardenCinema.dll/TSelectItems.waSelectItemsPrompt.TcsWebMenuItem_0.TcsWebTab_0.TcsPerformance_4966179.TcsSection_638
STATUS:CONFIRMED
END:VEVENT
END:VCALENDAR