BEGIN:VCALENDAR
VERSION:2.0
PRODID:-//Pictures London//Cinema Listings//EN
CALSCALE:GREGORIAN
METHOD:PUBLISH
X-WR-CALNAME:Pictures London Cinema
BEGIN:VEVENT
UID:91127693-4359-48a1-8370-8315b8de4f68@pictures.london
DTSTART:20260501T163000Z
DTEND:20260501T182900Z
SUMMARY:The Devil Wears Prada 2 (2026) at Everyman Canary Wharf
DESCRIPTION:The Devil Wears Prada 2 (2026)\nat Everyman Canary Wharf\nBook: https://purchase.everymancinema.com/launch/ticketing/d7426d87-7a11-583a-80e4-c8f736349bc6\nvia Pictures (pictures.london)
LOCATION:Everyman Canary Wharf\, Crossrail Place\, Canary Wharf\, E14 5NY
URL:https://purchase.everymancinema.com/launch/ticketing/d7426d87-7a11-583a-80e4-c8f736349bc6
STATUS:CONFIRMED
END:VEVENT
END:VCALENDAR