BEGIN:VCALENDAR
VERSION:2.0
PRODID:-//Pictures London//Cinema Listings//EN
CALSCALE:GREGORIAN
METHOD:PUBLISH
X-WR-CALNAME:Pictures London Cinema
BEGIN:VEVENT
UID:90ae978a-1e32-4ed5-a71c-2ce918b1b711@pictures.london
DTSTART:20260428T200000Z
DTEND:20260428T214700Z
SUMMARY:Hokum (2026) at Hackney Picturehouse
DESCRIPTION:Hokum (2026)\nat Hackney Picturehouse\nBook: https://www.picturehouses.com/movie-details/010/HO00017849/hokum\nvia Pictures (pictures.london)
LOCATION:Hackney Picturehouse\, 270 Mare Street\, Hackney\, E8 1EJ
URL:https://www.picturehouses.com/movie-details/010/HO00017849/hokum
STATUS:CONFIRMED
END:VEVENT
END:VCALENDAR