BEGIN:VCALENDAR
VERSION:2.0
PRODID:-//Pictures London//Cinema Listings//EN
CALSCALE:GREGORIAN
METHOD:PUBLISH
X-WR-CALNAME:Pictures London Cinema
BEGIN:VEVENT
UID:909afbd9-55ed-492e-90f8-cb89f105abdb@pictures.london
DTSTART:20260426T171500Z
DTEND:20260426T182200Z
SUMMARY:Tetsuo: The Iron Man (1989) at Prince Charles Cinema
DESCRIPTION:Tetsuo: The Iron Man (1989)\nat Prince Charles Cinema\nBook: https://princecharlescinema.com/prince-charles-cinema/booknow/31625622\nvia Pictures (pictures.london)
LOCATION:Prince Charles Cinema\, 7 Leicester Place\, Leicester Square\, WC2H 7BY
URL:https://princecharlescinema.com/prince-charles-cinema/booknow/31625622
STATUS:CONFIRMED
END:VEVENT
END:VCALENDAR