BEGIN:VCALENDAR
VERSION:2.0
PRODID:-//Pictures London//Cinema Listings//EN
CALSCALE:GREGORIAN
METHOD:PUBLISH
X-WR-CALNAME:Pictures London Cinema
BEGIN:VEVENT
UID:907deb57-0914-4e60-8a7e-c2bd41583ea2@pictures.london
DTSTART:20260501T163000Z
DTEND:20260501T182900Z
SUMMARY:The Devil Wears Prada 2 (2026) at Everyman Baker Street
DESCRIPTION:The Devil Wears Prada 2 (2026)\nat Everyman Baker Street\nBook: https://purchase.everymancinema.com/launch/ticketing/7108d444-c9e9-5575-9d53-067e3999beea\nvia Pictures (pictures.london)
LOCATION:Everyman Baker Street\, 96-98 Baker Street\, Marylebone\, W1U 6AG
URL:https://purchase.everymancinema.com/launch/ticketing/7108d444-c9e9-5575-9d53-067e3999beea
STATUS:CONFIRMED
END:VEVENT
END:VCALENDAR