BEGIN:VCALENDAR
VERSION:2.0
PRODID:-//Pictures London//Cinema Listings//EN
CALSCALE:GREGORIAN
METHOD:PUBLISH
X-WR-CALNAME:Pictures London Cinema
BEGIN:VEVENT
UID:906d7743-51a6-46e2-b426-e29ae1b6fa40@pictures.london
DTSTART:20260428T201500Z
DTEND:20260428T220200Z
SUMMARY:Hokum (2026) at Crouch End Picturehouse
DESCRIPTION:Hokum (2026)\nat Crouch End Picturehouse\nEvent: preview\nBook: https://www.picturehouses.com/movie-details/024/HO00017849/hokum\nvia Pictures (pictures.london)
LOCATION:Crouch End Picturehouse\, 165 Tottenham Lane\, Crouch End\, N8 8HP
URL:https://www.picturehouses.com/movie-details/024/HO00017849/hokum
STATUS:CONFIRMED
END:VEVENT
END:VCALENDAR