BEGIN:VCALENDAR
VERSION:2.0
PRODID:-//Pictures London//Cinema Listings//EN
CALSCALE:GREGORIAN
METHOD:PUBLISH
X-WR-CALNAME:Pictures London Cinema
BEGIN:VEVENT
UID:902ae7bb-e91d-438d-836f-afe31e7c836e@pictures.london
DTSTART:20260424T164500Z
DTEND:20260424T184500Z
SUMMARY:Easter Parade at Crouch End Picturehouse
DESCRIPTION:Easter Parade\nat Crouch End Picturehouse\nBook: https://www.picturehouses.com/movie-details/024/HO00012740/easter-parade\nvia Pictures (pictures.london)
LOCATION:Crouch End Picturehouse\, 165 Tottenham Lane\, Crouch End\, N8 8HP
URL:https://www.picturehouses.com/movie-details/024/HO00012740/easter-parade
STATUS:CONFIRMED
END:VEVENT
END:VCALENDAR