BEGIN:VCALENDAR
VERSION:2.0
PRODID:-//Pictures London//Cinema Listings//EN
CALSCALE:GREGORIAN
METHOD:PUBLISH
X-WR-CALNAME:Pictures London Cinema
BEGIN:VEVENT
UID:8f9f2f6c-5877-4858-af29-d8040c556508@pictures.london
DTSTART:20260421T172000Z
DTEND:20260421T190500Z
SUMMARY:The Drama (2026) at Everyman Crystal Palace
DESCRIPTION:The Drama (2026)\nat Everyman Crystal Palace\nBook: https://purchase.everymancinema.com/launch/ticketing/51ab3415-db40-541d-9d9b-e182c6174733\nvia Pictures (pictures.london)
LOCATION:Everyman Crystal Palace\, 25 Church Road\, Crystal Palace\, SE19 2AE
URL:https://purchase.everymancinema.com/launch/ticketing/51ab3415-db40-541d-9d9b-e182c6174733
STATUS:CONFIRMED
END:VEVENT
END:VCALENDAR