BEGIN:VCALENDAR
VERSION:2.0
PRODID:-//Pictures London//Cinema Listings//EN
CALSCALE:GREGORIAN
METHOD:PUBLISH
X-WR-CALNAME:Pictures London Cinema
BEGIN:VEVENT
UID:8ebe8557-aa4d-4d28-a3bc-d8a38f304e83@pictures.london
DTSTART:20260501T150000Z
DTEND:20260501T165900Z
SUMMARY:The Devil Wears Prada 2 (2026) at East Dulwich Picturehouse
DESCRIPTION:The Devil Wears Prada 2 (2026)\nat East Dulwich Picturehouse\nBook: https://www.picturehouses.com/movie-details/009/HO00017738/the-devil-wears-prada-2\nvia Pictures (pictures.london)
LOCATION:East Dulwich Picturehouse\, Lordship Lane\, East Dulwich\, SE22 8EW
URL:https://www.picturehouses.com/movie-details/009/HO00017738/the-devil-wears-prada-2
STATUS:CONFIRMED
END:VEVENT
END:VCALENDAR