BEGIN:VCALENDAR
VERSION:2.0
PRODID:-//Pictures London//Cinema Listings//EN
CALSCALE:GREGORIAN
METHOD:PUBLISH
X-WR-CALNAME:Pictures London Cinema
BEGIN:VEVENT
UID:8e620396-a70f-402f-b46b-23079d1c2b19@pictures.london
DTSTART:20260421T180000Z
DTEND:20260421T201400Z
SUMMARY:Lee Cronin's The Mummy (2026) at Genesis Cinema
DESCRIPTION:Lee Cronin's The Mummy (2026)\nat Genesis Cinema\nBook: https://genesis.admit-one.co.uk/seats/?perfCode=10577\nvia Pictures (pictures.london)
LOCATION:Genesis Cinema\, 93-95 Mile End Road\, Mile End\, E1 4UJ
URL:https://genesis.admit-one.co.uk/seats/?perfCode=10577
STATUS:CONFIRMED
END:VEVENT
END:VCALENDAR