BEGIN:VCALENDAR
VERSION:2.0
PRODID:-//Pictures London//Cinema Listings//EN
CALSCALE:GREGORIAN
METHOD:PUBLISH
X-WR-CALNAME:Pictures London Cinema
BEGIN:VEVENT
UID:8e354985-6a2c-462d-8263-e519861ca3c5@pictures.london
DTSTART:20260421T200000Z
DTEND:20260421T215700Z
SUMMARY:The Stranger (2022) at Curzon Hoxton
DESCRIPTION:The Stranger (2022)\nat Curzon Hoxton\nBook: https://www.curzon.com/films/the-stranger/HO00006845/\nvia Pictures (pictures.london)
LOCATION:Curzon Hoxton\, 58 Pitfield Street\, Hoxton\, N1 6NU
URL:https://www.curzon.com/films/the-stranger/HO00006845/
STATUS:CONFIRMED
END:VEVENT
END:VCALENDAR