BEGIN:VCALENDAR
VERSION:2.0
PRODID:-//Pictures London//Cinema Listings//EN
CALSCALE:GREGORIAN
METHOD:PUBLISH
X-WR-CALNAME:Pictures London Cinema
BEGIN:VEVENT
UID:8e26fff9-9090-4a59-ad63-0a17ec9f1a08@pictures.london
DTSTART:20260428T201500Z
DTEND:20260428T220200Z
SUMMARY:Hokum (2026) at Finsbury Park Picturehouse
DESCRIPTION:Hokum (2026)\nat Finsbury Park Picturehouse\nBook: https://www.picturehouses.com/movie-details/029/HO00017849/hokum\nvia Pictures (pictures.london)
LOCATION:Finsbury Park Picturehouse\, Unit B\, Finsbury Park Station\, Finsbury Park\, N4 3FP
URL:https://www.picturehouses.com/movie-details/029/HO00017849/hokum
STATUS:CONFIRMED
END:VEVENT
END:VCALENDAR