BEGIN:VCALENDAR
VERSION:2.0
PRODID:-//Pictures London//Cinema Listings//EN
CALSCALE:GREGORIAN
METHOD:PUBLISH
X-WR-CALNAME:Pictures London Cinema
BEGIN:VEVENT
UID:8de4d1c0-5572-4548-8980-8cc1b6da5fc5@pictures.london
DTSTART:20260421T203000Z
DTEND:20260421T221500Z
SUMMARY:The Drama (2026) at Electric Cinema White City
DESCRIPTION:The Drama (2026)\nat Electric Cinema White City\nBook: https://www.electriccinema.co.uk/programme/\nvia Pictures (pictures.london)
LOCATION:Electric Cinema White City\, Television Centre\, White City\, W12 7SL
URL:https://www.electriccinema.co.uk/programme/
STATUS:CONFIRMED
END:VEVENT
END:VCALENDAR