BEGIN:VCALENDAR
VERSION:2.0
PRODID:-//Pictures London//Cinema Listings//EN
CALSCALE:GREGORIAN
METHOD:PUBLISH
X-WR-CALNAME:Pictures London Cinema
BEGIN:VEVENT
UID:8d313e98-eae7-49a4-a8c9-fcf2a4a5aae9@pictures.london
DTSTART:20260421T170000Z
DTEND:20260421T184500Z
SUMMARY:The Drama (2026) at Everyman Barnet
DESCRIPTION:The Drama (2026)\nat Everyman Barnet\nBook: https://purchase.everymancinema.com/launch/ticketing/026a7467-7a35-53da-ab3e-006e1448a344\nvia Pictures (pictures.london)
LOCATION:Everyman Barnet\, Great North Road\, Barnet\, EN5 5SJ
URL:https://purchase.everymancinema.com/launch/ticketing/026a7467-7a35-53da-ab3e-006e1448a344
STATUS:CONFIRMED
END:VEVENT
END:VCALENDAR