BEGIN:VCALENDAR
VERSION:2.0
PRODID:-//Pictures London//Cinema Listings//EN
CALSCALE:GREGORIAN
METHOD:PUBLISH
X-WR-CALNAME:Pictures London Cinema
BEGIN:VEVENT
UID:8cbea01e-0071-49b5-8972-c832699ad64a@pictures.london
DTSTART:20260425T200000Z
DTEND:20260425T213300Z
SUMMARY:Beau Travail (2000) at Close-Up Cinema
DESCRIPTION:Beau Travail (2000)\nat Close-Up Cinema\nBook: https://www.ticketsource.co.uk/close-up-cinema/e-zkoayq\nvia Pictures (pictures.london)
LOCATION:Close-Up Cinema\, 97 Sclater Street\, Shoreditch\, E1 6HR
URL:https://www.ticketsource.co.uk/close-up-cinema/e-zkoayq
STATUS:CONFIRMED
END:VEVENT
END:VCALENDAR