BEGIN:VCALENDAR
VERSION:2.0
PRODID:-//Pictures London//Cinema Listings//EN
CALSCALE:GREGORIAN
METHOD:PUBLISH
X-WR-CALNAME:Pictures London Cinema
BEGIN:VEVENT
UID:8cb8c6a8-404e-4404-9036-cffd21a33b2d@pictures.london
DTSTART:20260519T180000Z
DTEND:20260519T200000Z
SUMMARY:RIO FOREVER: PUNCH DRUNK LOVE at Rio Cinema
DESCRIPTION:RIO FOREVER: PUNCH DRUNK LOVE\nat Rio Cinema\nBook: https://riocinema.org.uk/Rio.dll/WhatsOn?f=2384039\nvia Pictures (pictures.london)
LOCATION:Rio Cinema\, 107 Kingsland High Street\, Dalston\, E8 2PB
URL:https://riocinema.org.uk/Rio.dll/WhatsOn?f=2384039
STATUS:CONFIRMED
END:VEVENT
END:VCALENDAR