BEGIN:VCALENDAR
VERSION:2.0
PRODID:-//Pictures London//Cinema Listings//EN
CALSCALE:GREGORIAN
METHOD:PUBLISH
X-WR-CALNAME:Pictures London Cinema
BEGIN:VEVENT
UID:8be43c66-d2b4-455a-95c4-1d4a9a0f9ec7@pictures.london
DTSTART:20260421T141000Z
DTEND:20260421T161000Z
SUMMARY:AKIRA (2026 Re-release) (Subbed) (2026) at Curzon Soho
DESCRIPTION:AKIRA (2026 Re-release) (Subbed) (2026)\nat Curzon Soho\nBook: https://www.curzon.com/films/akira-2026-re-release-subbed/HO00006970/\nvia Pictures (pictures.london)
LOCATION:Curzon Soho\, 99 Shaftesbury Avenue\, Soho\, W1D 5DY
URL:https://www.curzon.com/films/akira-2026-re-release-subbed/HO00006970/
STATUS:CONFIRMED
END:VEVENT
END:VCALENDAR