BEGIN:VCALENDAR
VERSION:2.0
PRODID:-//Pictures London//Cinema Listings//EN
CALSCALE:GREGORIAN
METHOD:PUBLISH
X-WR-CALNAME:Pictures London Cinema
BEGIN:VEVENT
UID:8a3b4d18-f10f-402e-a34a-23284f372c04@pictures.london
DTSTART:20260421T161500Z
DTEND:20260421T180000Z
SUMMARY:The Drama (2026) at Phoenix Cinema
DESCRIPTION:The Drama (2026)\nat Phoenix Cinema\nBook: https://www.phoenixcinema.co.uk/PhoenixCinemaLondon.dll/WhatsOn?f=437524\nvia Pictures (pictures.london)
LOCATION:Phoenix Cinema\, 52 High Road\, East Finchley\, N2 9PJ
URL:https://www.phoenixcinema.co.uk/PhoenixCinemaLondon.dll/WhatsOn?f=437524
STATUS:CONFIRMED
END:VEVENT
END:VCALENDAR