BEGIN:VCALENDAR
VERSION:2.0
PRODID:-//Pictures London//Cinema Listings//EN
CALSCALE:GREGORIAN
METHOD:PUBLISH
X-WR-CALNAME:Pictures London Cinema
BEGIN:VEVENT
UID:89e6c777-f602-4511-bab9-135a826709e7@pictures.london
DTSTART:20260421T172000Z
DTEND:20260421T191000Z
SUMMARY:Father Mother Sister Brother (2025) at Everyman Broadgate
DESCRIPTION:Father Mother Sister Brother (2025)\nat Everyman Broadgate\nBook: https://purchase.everymancinema.com/launch/ticketing/eb87f5f5-4f71-5ab0-a6e0-33e742c8354b\nvia Pictures (pictures.london)
LOCATION:Everyman Broadgate\, Broadgate Circle\, Liverpool Street\, EC2M 2QS
URL:https://purchase.everymancinema.com/launch/ticketing/eb87f5f5-4f71-5ab0-a6e0-33e742c8354b
STATUS:CONFIRMED
END:VEVENT
END:VCALENDAR