BEGIN:VCALENDAR
VERSION:2.0
PRODID:-//Pictures London//Cinema Listings//EN
CALSCALE:GREGORIAN
METHOD:PUBLISH
X-WR-CALNAME:Pictures London Cinema
BEGIN:VEVENT
UID:88045821-8271-4708-9299-875084c13359@pictures.london
DTSTART:20260421T161500Z
DTEND:20260421T180000Z
SUMMARY:The Drama (2026) at Everyman Stratford International
DESCRIPTION:The Drama (2026)\nat Everyman Stratford International\nBook: https://purchase.everymancinema.com/launch/ticketing/5da0f298-e532-5d4d-9232-068a8d5233b6\nvia Pictures (pictures.london)
LOCATION:Everyman Stratford International\, International Way\, Stratford\, E20 1GL
URL:https://purchase.everymancinema.com/launch/ticketing/5da0f298-e532-5d4d-9232-068a8d5233b6
STATUS:CONFIRMED
END:VEVENT
END:VCALENDAR