BEGIN:VCALENDAR
VERSION:2.0
PRODID:-//Pictures London//Cinema Listings//EN
CALSCALE:GREGORIAN
METHOD:PUBLISH
X-WR-CALNAME:Pictures London Cinema
BEGIN:VEVENT
UID:87f297b9-c167-4a9a-8924-295dd3b8c8b7@pictures.london
DTSTART:20260421T211500Z
DTEND:20260421T230500Z
SUMMARY:Father Mother Sister Brother (2025) at Everyman Crystal Palace
DESCRIPTION:Father Mother Sister Brother (2025)\nat Everyman Crystal Palace\nBook: https://purchase.everymancinema.com/launch/ticketing/b9523d4b-7d23-5e4f-a143-d18bd9f759e5\nvia Pictures (pictures.london)
LOCATION:Everyman Crystal Palace\, 25 Church Road\, Crystal Palace\, SE19 2AE
URL:https://purchase.everymancinema.com/launch/ticketing/b9523d4b-7d23-5e4f-a143-d18bd9f759e5
STATUS:CONFIRMED
END:VEVENT
END:VCALENDAR