BEGIN:VCALENDAR
VERSION:2.0
PRODID:-//Pictures London//Cinema Listings//EN
CALSCALE:GREGORIAN
METHOD:PUBLISH
X-WR-CALNAME:Pictures London Cinema
BEGIN:VEVENT
UID:87a0c5a1-70a1-4b32-93e9-6a092893657d@pictures.london
DTSTART:20260421T194500Z
DTEND:20260421T222200Z
SUMMARY:Project Hail Mary (2026) at Hackney Picturehouse
DESCRIPTION:Project Hail Mary (2026)\nat Hackney Picturehouse\nBook: https://www.picturehouses.com/movie-details/010/HO00017624/project-hail-mary\nvia Pictures (pictures.london)
LOCATION:Hackney Picturehouse\, 270 Mare Street\, Hackney\, E8 1EJ
URL:https://www.picturehouses.com/movie-details/010/HO00017624/project-hail-mary
STATUS:CONFIRMED
END:VEVENT
END:VCALENDAR