BEGIN:VCALENDAR
VERSION:2.0
PRODID:-//Pictures London//Cinema Listings//EN
CALSCALE:GREGORIAN
METHOD:PUBLISH
X-WR-CALNAME:Pictures London Cinema
BEGIN:VEVENT
UID:876d79aa-036b-4776-af9f-8182491f57b2@pictures.london
DTSTART:20260421T184500Z
DTEND:20260421T203000Z
SUMMARY:The Drama (2026) at Regent Street Cinema
DESCRIPTION:The Drama (2026)\nat Regent Street Cinema\nBook: https://www.regentstreetcinema.com/movie/the-drama\nvia Pictures (pictures.london)
LOCATION:Regent Street Cinema\, 307 Regent Street\, Marylebone\, W1B 2HW
URL:https://www.regentstreetcinema.com/movie/the-drama
STATUS:CONFIRMED
END:VEVENT
END:VCALENDAR