BEGIN:VCALENDAR
VERSION:2.0
PRODID:-//Pictures London//Cinema Listings//EN
CALSCALE:GREGORIAN
METHOD:PUBLISH
X-WR-CALNAME:Pictures London Cinema
BEGIN:VEVENT
UID:868d9aab-da85-4b2e-8737-c98e2979ddd2@pictures.london
DTSTART:20260501T171500Z
DTEND:20260501T191400Z
SUMMARY:The Devil Wears Prada 2 (2026) at Curzon Victoria
DESCRIPTION:The Devil Wears Prada 2 (2026)\nat Curzon Victoria\nBook: https://www.curzon.com/films/the-devil-wears-prada-2/HO00006909/\nvia Pictures (pictures.london)
LOCATION:Curzon Victoria\, 58 Victoria Street\, Victoria\, SW1E 5JA
URL:https://www.curzon.com/films/the-devil-wears-prada-2/HO00006909/
STATUS:CONFIRMED
END:VEVENT
END:VCALENDAR